BEGIN:VCALENDAR
VERSION:2.0
PRODID:-//St. Ignatius Martyr Children&#039;s Religious Education - ECPv6.15.20//NONSGML v1.0//EN
CALSCALE:GREGORIAN
METHOD:PUBLISH
X-WR-CALNAME:St. Ignatius Martyr Children&#039;s Religious Education
X-ORIGINAL-URL:https://sim-re.org
X-WR-CALDESC:Events for St. Ignatius Martyr Children&#039;s Religious Education
REFRESH-INTERVAL;VALUE=DURATION:PT1H
X-Robots-Tag:noindex
X-PUBLISHED-TTL:PT1H
BEGIN:VTIMEZONE
TZID:America/Chicago
BEGIN:DAYLIGHT
TZOFFSETFROM:-0600
TZOFFSETTO:-0500
TZNAME:CDT
DTSTART:20250309T080000
END:DAYLIGHT
BEGIN:STANDARD
TZOFFSETFROM:-0500
TZOFFSETTO:-0600
TZNAME:CST
DTSTART:20251102T070000
END:STANDARD
BEGIN:DAYLIGHT
TZOFFSETFROM:-0600
TZOFFSETTO:-0500
TZNAME:CDT
DTSTART:20260308T080000
END:DAYLIGHT
BEGIN:STANDARD
TZOFFSETFROM:-0500
TZOFFSETTO:-0600
TZNAME:CST
DTSTART:20261101T070000
END:STANDARD
BEGIN:DAYLIGHT
TZOFFSETFROM:-0600
TZOFFSETTO:-0500
TZNAME:CDT
DTSTART:20270314T080000
END:DAYLIGHT
BEGIN:STANDARD
TZOFFSETFROM:-0500
TZOFFSETTO:-0600
TZNAME:CST
DTSTART:20271107T070000
END:STANDARD
BEGIN:DAYLIGHT
TZOFFSETFROM:-0600
TZOFFSETTO:-0500
TZNAME:CDT
DTSTART:20280312T080000
END:DAYLIGHT
BEGIN:STANDARD
TZOFFSETFROM:-0500
TZOFFSETTO:-0600
TZNAME:CST
DTSTART:20281105T070000
END:STANDARD
END:VTIMEZONE
BEGIN:VEVENT
DTSTART;TZID=America/Chicago:20260823T094500
DTEND;TZID=America/Chicago:20260823T110000
DTSTAMP:20260424T050316
CREATED:20260418T191419Z
LAST-MODIFIED:20260418T191419Z
UID:139-1787478300-1787482800@sim-re.org
SUMMARY:OCIA — First Day + Parent Orientations / Primer día + Orientaciones para padres
DESCRIPTION:
URL:https://sim-re.org/event/ocia-first-day-parent-orientations-primer-dia-orientaciones-para-padres/
LOCATION:School Building\, 120 W. Oltorf St\, Austin\, TX\, 78704\, United States
CATEGORIES:OCIA Adapted for Children (OCIA)
END:VEVENT
BEGIN:VEVENT
DTSTART;TZID=America/Chicago:20260830T094500
DTEND;TZID=America/Chicago:20260830T110000
DTSTAMP:20260424T050316
CREATED:20260418T191419Z
LAST-MODIFIED:20260418T191419Z
UID:140-1788083100-1788087600@sim-re.org
SUMMARY:OCIA class / Clase de OCIA
DESCRIPTION:
URL:https://sim-re.org/event/ocia-class-clase-de-ocia/
LOCATION:School Building\, 120 W. Oltorf St\, Austin\, TX\, 78704\, United States
CATEGORIES:OCIA Adapted for Children (OCIA)
END:VEVENT
BEGIN:VEVENT
DTSTART;TZID=America/Chicago:20260913T094500
DTEND;TZID=America/Chicago:20260913T110000
DTSTAMP:20260424T050316
CREATED:20260418T191419Z
LAST-MODIFIED:20260418T191419Z
UID:141-1789292700-1789297200@sim-re.org
SUMMARY:OCIA class / Clase de OCIA
DESCRIPTION:
URL:https://sim-re.org/event/ocia-class-clase-de-ocia-2/
LOCATION:School Building\, 120 W. Oltorf St\, Austin\, TX\, 78704\, United States
CATEGORIES:OCIA Adapted for Children (OCIA)
END:VEVENT
BEGIN:VEVENT
DTSTART;TZID=America/Chicago:20260920T094500
DTEND;TZID=America/Chicago:20260920T110000
DTSTAMP:20260424T050316
CREATED:20260418T191420Z
LAST-MODIFIED:20260418T191420Z
UID:142-1789897500-1789902000@sim-re.org
SUMMARY:OCIA class / Clase de OCIA
DESCRIPTION:
URL:https://sim-re.org/event/ocia-class-clase-de-ocia-3/
LOCATION:School Building\, 120 W. Oltorf St\, Austin\, TX\, 78704\, United States
CATEGORIES:OCIA Adapted for Children (OCIA)
END:VEVENT
BEGIN:VEVENT
DTSTART;TZID=America/Chicago:20260927T100000
DTEND;TZID=America/Chicago:20260927T123000
DTSTAMP:20260424T050316
CREATED:20260418T191417Z
LAST-MODIFIED:20260418T191417Z
UID:129-1790503200-1790512200@sim-re.org
SUMMARY:OCIA Rite for Entrance @ 11:15 AM Mass / Rito de entrada en la Misa de 11:15 AM
DESCRIPTION:
URL:https://sim-re.org/event/ocia-rite-for-entrance-1115-am-mass-rito-de-entrada-en-la-misa-de-1115-am/
LOCATION:Church\, 126 W. Oltorf Street\, Austin\, TX\, 78704\, United States
CATEGORIES:OCIA Adapted for Children (OCIA)
END:VEVENT
BEGIN:VEVENT
DTSTART;TZID=America/Chicago:20261004T094500
DTEND;TZID=America/Chicago:20261004T110000
DTSTAMP:20260424T050316
CREATED:20260418T191420Z
LAST-MODIFIED:20260418T191420Z
UID:143-1791107100-1791111600@sim-re.org
SUMMARY:OCIA class / Clase de OCIA
DESCRIPTION:
URL:https://sim-re.org/event/ocia-class-clase-de-ocia-4/
LOCATION:School Building\, 120 W. Oltorf St\, Austin\, TX\, 78704\, United States
CATEGORIES:OCIA Adapted for Children (OCIA)
END:VEVENT
BEGIN:VEVENT
DTSTART;TZID=America/Chicago:20261011T094500
DTEND;TZID=America/Chicago:20261011T110000
DTSTAMP:20260424T050316
CREATED:20260418T191420Z
LAST-MODIFIED:20260418T191420Z
UID:144-1791711900-1791716400@sim-re.org
SUMMARY:OCIA class / Clase de OCIA
DESCRIPTION:
URL:https://sim-re.org/event/ocia-class-clase-de-ocia-5/
LOCATION:School Building\, 120 W. Oltorf St\, Austin\, TX\, 78704\, United States
CATEGORIES:OCIA Adapted for Children (OCIA)
END:VEVENT
BEGIN:VEVENT
DTSTART;TZID=America/Chicago:20261020T180000
DTEND;TZID=America/Chicago:20261020T193000
DTSTAMP:20260424T050316
CREATED:20260418T191416Z
LAST-MODIFIED:20260418T191416Z
UID:122-1792519200-1792524600@sim-re.org
SUMMARY:Teaching Mass (English) / Misa de enseñanza (inglés)
DESCRIPTION:Required for FC2 + OCIA parents. Parents may attend in either language.
URL:https://sim-re.org/event/teaching-mass-english-misa-de-ensenanza-ingles/
LOCATION:Church\, 126 W. Oltorf Street\, Austin\, TX\, 78704\, United States
CATEGORIES:First Communion — Year 2 (FC2),OCIA Adapted for Children (OCIA)
END:VEVENT
BEGIN:VEVENT
DTSTART;TZID=America/Chicago:20261025T094500
DTEND;TZID=America/Chicago:20261025T110000
DTSTAMP:20260424T050316
CREATED:20260418T191420Z
LAST-MODIFIED:20260418T191420Z
UID:145-1792921500-1792926000@sim-re.org
SUMMARY:OCIA class / Clase de OCIA
DESCRIPTION:
URL:https://sim-re.org/event/ocia-class-clase-de-ocia-6/
LOCATION:School Building\, 120 W. Oltorf St\, Austin\, TX\, 78704\, United States
CATEGORIES:OCIA Adapted for Children (OCIA)
END:VEVENT
BEGIN:VEVENT
DTSTART;TZID=America/Chicago:20261101T094500
DTEND;TZID=America/Chicago:20261101T110000
DTSTAMP:20260424T050316
CREATED:20260418T191420Z
LAST-MODIFIED:20260418T191420Z
UID:146-1793526300-1793530800@sim-re.org
SUMMARY:OCIA class / Clase de OCIA
DESCRIPTION:
URL:https://sim-re.org/event/ocia-class-clase-de-ocia-7/
LOCATION:School Building\, 120 W. Oltorf St\, Austin\, TX\, 78704\, United States
CATEGORIES:OCIA Adapted for Children (OCIA)
END:VEVENT
BEGIN:VEVENT
DTSTART;TZID=America/Chicago:20261108T094500
DTEND;TZID=America/Chicago:20261108T110000
DTSTAMP:20260424T050316
CREATED:20260418T191421Z
LAST-MODIFIED:20260418T191421Z
UID:147-1794131100-1794135600@sim-re.org
SUMMARY:OCIA class / Clase de OCIA
DESCRIPTION:
URL:https://sim-re.org/event/ocia-class-clase-de-ocia-8/
LOCATION:School Building\, 120 W. Oltorf St\, Austin\, TX\, 78704\, United States
CATEGORIES:OCIA Adapted for Children (OCIA)
END:VEVENT
BEGIN:VEVENT
DTSTART;TZID=America/Chicago:20261114T080000
DTEND;TZID=America/Chicago:20261114T100000
DTSTAMP:20260424T050316
CREATED:20260418T191416Z
LAST-MODIFIED:20260418T191416Z
UID:123-1794643200-1794650400@sim-re.org
SUMMARY:OCIA Reconciliation Mini-Retreat / Mini retiro de Reconciliación (OCIA)
DESCRIPTION:
URL:https://sim-re.org/event/ocia-reconciliation-mini-retreat-mini-retiro-de-reconciliacion-ocia/
LOCATION:Doré Athletic Center\, 120 W. Oltorf Street\, Austin\, TX\, 78704\, United States
CATEGORIES:OCIA Adapted for Children (OCIA)
END:VEVENT
BEGIN:VEVENT
DTSTART;TZID=America/Chicago:20261115T094500
DTEND;TZID=America/Chicago:20261115T110000
DTSTAMP:20260424T050316
CREATED:20260418T191421Z
LAST-MODIFIED:20260418T191421Z
UID:148-1794735900-1794740400@sim-re.org
SUMMARY:OCIA class / Clase de OCIA
DESCRIPTION:
URL:https://sim-re.org/event/ocia-class-clase-de-ocia-9/
LOCATION:School Building\, 120 W. Oltorf St\, Austin\, TX\, 78704\, United States
CATEGORIES:OCIA Adapted for Children (OCIA)
END:VEVENT
BEGIN:VEVENT
DTSTART;TZID=America/Chicago:20261129T094500
DTEND;TZID=America/Chicago:20261129T110000
DTSTAMP:20260424T050316
CREATED:20260418T191421Z
LAST-MODIFIED:20260418T191421Z
UID:149-1795945500-1795950000@sim-re.org
SUMMARY:OCIA class / Clase de OCIA
DESCRIPTION:
URL:https://sim-re.org/event/ocia-class-clase-de-ocia-10/
LOCATION:School Building\, 120 W. Oltorf St\, Austin\, TX\, 78704\, United States
CATEGORIES:OCIA Adapted for Children (OCIA)
END:VEVENT
BEGIN:VEVENT
DTSTART;TZID=America/Chicago:20261206T094500
DTEND;TZID=America/Chicago:20261206T110000
DTSTAMP:20260424T050316
CREATED:20260418T191421Z
LAST-MODIFIED:20260418T191421Z
UID:150-1796550300-1796554800@sim-re.org
SUMMARY:OCIA class / Clase de OCIA
DESCRIPTION:
URL:https://sim-re.org/event/ocia-class-clase-de-ocia-11/
LOCATION:School Building\, 120 W. Oltorf St\, Austin\, TX\, 78704\, United States
CATEGORIES:OCIA Adapted for Children (OCIA)
END:VEVENT
BEGIN:VEVENT
DTSTART;TZID=America/Chicago:20261213T094500
DTEND;TZID=America/Chicago:20261213T110000
DTSTAMP:20260424T050316
CREATED:20260418T191421Z
LAST-MODIFIED:20260418T191421Z
UID:151-1797155100-1797159600@sim-re.org
SUMMARY:OCIA — Last Class of Fall Semester / Última clase del semestre de otoño
DESCRIPTION:
URL:https://sim-re.org/event/ocia-last-class-of-fall-semester-ultima-clase-del-semestre-de-otono/
LOCATION:School Building\, 120 W. Oltorf St\, Austin\, TX\, 78704\, United States
CATEGORIES:OCIA Adapted for Children (OCIA)
END:VEVENT
BEGIN:VEVENT
DTSTART;TZID=America/Chicago:20270110T094500
DTEND;TZID=America/Chicago:20270110T110000
DTSTAMP:20260424T050316
CREATED:20260418T191421Z
LAST-MODIFIED:20260418T191421Z
UID:152-1799574300-1799578800@sim-re.org
SUMMARY:OCIA — First Class of Spring Semester / Primera clase del semestre de primavera
DESCRIPTION:
URL:https://sim-re.org/event/ocia-first-class-of-spring-semester-primera-clase-del-semestre-de-primavera/
LOCATION:School Building\, 120 W. Oltorf St\, Austin\, TX\, 78704\, United States
CATEGORIES:OCIA Adapted for Children (OCIA)
END:VEVENT
BEGIN:VEVENT
DTSTART;TZID=America/Chicago:20270117T094500
DTEND;TZID=America/Chicago:20270117T110000
DTSTAMP:20260424T050316
CREATED:20260418T191422Z
LAST-MODIFIED:20260418T191422Z
UID:153-1800179100-1800183600@sim-re.org
SUMMARY:OCIA class / Clase de OCIA
DESCRIPTION:
URL:https://sim-re.org/event/ocia-class-clase-de-ocia-12/
LOCATION:School Building\, 120 W. Oltorf St\, Austin\, TX\, 78704\, United States
CATEGORIES:OCIA Adapted for Children (OCIA)
END:VEVENT
BEGIN:VEVENT
DTSTART;TZID=America/Chicago:20270124T094500
DTEND;TZID=America/Chicago:20270124T110000
DTSTAMP:20260424T050316
CREATED:20260418T191422Z
LAST-MODIFIED:20260418T191422Z
UID:154-1800783900-1800788400@sim-re.org
SUMMARY:OCIA class / Clase de OCIA
DESCRIPTION:
URL:https://sim-re.org/event/ocia-class-clase-de-ocia-13/
LOCATION:School Building\, 120 W. Oltorf St\, Austin\, TX\, 78704\, United States
CATEGORIES:OCIA Adapted for Children (OCIA)
END:VEVENT
BEGIN:VEVENT
DTSTART;TZID=America/Chicago:20270130T080000
DTEND;TZID=America/Chicago:20270130T120000
DTSTAMP:20260424T050316
CREATED:20260418T191417Z
LAST-MODIFIED:20260418T191417Z
UID:125-1801296000-1801310400@sim-re.org
SUMMARY:Parish Service Day / Día de servicio parroquial
DESCRIPTION:
URL:https://sim-re.org/event/parish-service-day-dia-de-servicio-parroquial/
LOCATION:Doré Athletic Center\, 120 W. Oltorf Street\, Austin\, TX\, 78704\, United States
CATEGORIES:First Communion — Year 2 (FC2),OCIA Adapted for Children (OCIA)
END:VEVENT
BEGIN:VEVENT
DTSTART;TZID=America/Chicago:20270131T094500
DTEND;TZID=America/Chicago:20270131T110000
DTSTAMP:20260424T050316
CREATED:20260418T191422Z
LAST-MODIFIED:20260418T191422Z
UID:155-1801388700-1801393200@sim-re.org
SUMMARY:OCIA class / Clase de OCIA
DESCRIPTION:
URL:https://sim-re.org/event/ocia-class-clase-de-ocia-14/
LOCATION:School Building\, 120 W. Oltorf St\, Austin\, TX\, 78704\, United States
CATEGORIES:OCIA Adapted for Children (OCIA)
END:VEVENT
BEGIN:VEVENT
DTSTART;TZID=America/Chicago:20270207T094500
DTEND;TZID=America/Chicago:20270207T110000
DTSTAMP:20260424T050316
CREATED:20260418T191422Z
LAST-MODIFIED:20260418T191422Z
UID:156-1801993500-1801998000@sim-re.org
SUMMARY:OCIA class / Clase de OCIA
DESCRIPTION:
URL:https://sim-re.org/event/ocia-class-clase-de-ocia-15/
LOCATION:School Building\, 120 W. Oltorf St\, Austin\, TX\, 78704\, United States
CATEGORIES:OCIA Adapted for Children (OCIA)
END:VEVENT
BEGIN:VEVENT
DTSTART;TZID=America/Chicago:20270214T000000
DTEND;TZID=America/Chicago:20270214T235959
DTSTAMP:20260424T050316
CREATED:20260418T191418Z
LAST-MODIFIED:20260418T191418Z
UID:131-1802563200-1802649599@sim-re.org
SUMMARY:OCIA Rite of Election (Diocesan) — time + venue TBA / Rito de la Elección (Diocesano) — hora y lugar por confirmar
DESCRIPTION:Diocesan Rite of Election — off-campus in North Austin (time and venue TBA). Open to every OCIA cohort in the region. Date is tentative but expected to land on Feb 14\, 2027.
URL:https://sim-re.org/event/ocia-rite-of-election-diocesan-time-venue-tba-rito-de-la-eleccion-diocesano-hora-y-lugar-por-confirmar/
LOCATION:TX
CATEGORIES:OCIA Adapted for Children (OCIA)
END:VEVENT
BEGIN:VEVENT
DTSTART;TZID=America/Chicago:20270214T100000
DTEND;TZID=America/Chicago:20270214T130000
DTSTAMP:20260424T050316
CREATED:20260418T191417Z
LAST-MODIFIED:20260418T191417Z
UID:130-1802599200-1802610000@sim-re.org
SUMMARY:OCIA Rite of Sending @ 11:15 AM Mass / Rito del envío en la Misa de 11:15 AM
DESCRIPTION:
URL:https://sim-re.org/event/ocia-rite-of-sending-1115-am-mass-rito-del-envio-en-la-misa-de-1115-am/
LOCATION:Church\, 126 W. Oltorf Street\, Austin\, TX\, 78704\, United States
CATEGORIES:OCIA Adapted for Children (OCIA)
END:VEVENT
BEGIN:VEVENT
DTSTART;TZID=America/Chicago:20270221T094500
DTEND;TZID=America/Chicago:20270221T110000
DTSTAMP:20260424T050316
CREATED:20260418T191422Z
LAST-MODIFIED:20260418T191422Z
UID:157-1803203100-1803207600@sim-re.org
SUMMARY:OCIA class / Clase de OCIA
DESCRIPTION:
URL:https://sim-re.org/event/ocia-class-clase-de-ocia-16/
LOCATION:School Building\, 120 W. Oltorf St\, Austin\, TX\, 78704\, United States
CATEGORIES:OCIA Adapted for Children (OCIA)
END:VEVENT
BEGIN:VEVENT
DTSTART;TZID=America/Chicago:20270223T180000
DTEND;TZID=America/Chicago:20270223T193000
DTSTAMP:20260424T050316
CREATED:20260418T191417Z
LAST-MODIFIED:20260418T191417Z
UID:126-1803405600-1803411000@sim-re.org
SUMMARY:Teaching Mass (Spanish) / Misa de enseñanza (español)
DESCRIPTION:Required for FC2 + OCIA parents. Parents may attend in either language.
URL:https://sim-re.org/event/teaching-mass-spanish-misa-de-ensenanza-espanol/
LOCATION:Church\, 126 W. Oltorf Street\, Austin\, TX\, 78704\, United States
CATEGORIES:First Communion — Year 2 (FC2),OCIA Adapted for Children (OCIA)
END:VEVENT
BEGIN:VEVENT
DTSTART;TZID=America/Chicago:20270227T080000
DTEND;TZID=America/Chicago:20270227T120000
DTSTAMP:20260424T050316
CREATED:20260418T191417Z
LAST-MODIFIED:20260418T191417Z
UID:127-1803715200-1803729600@sim-re.org
SUMMARY:Lenten Retreat / Retiro de Cuaresma
DESCRIPTION:
URL:https://sim-re.org/event/lenten-retreat-retiro-de-cuaresma/
LOCATION:Doré Athletic Center\, 120 W. Oltorf Street\, Austin\, TX\, 78704\, United States
CATEGORIES:First Communion — Year 2 (FC2),OCIA Adapted for Children (OCIA)
END:VEVENT
BEGIN:VEVENT
DTSTART;TZID=America/Chicago:20270228T094500
DTEND;TZID=America/Chicago:20270228T110000
DTSTAMP:20260424T050316
CREATED:20260418T191423Z
LAST-MODIFIED:20260418T191423Z
UID:158-1803807900-1803812400@sim-re.org
SUMMARY:OCIA class / Clase de OCIA
DESCRIPTION:
URL:https://sim-re.org/event/ocia-class-clase-de-ocia-17/
LOCATION:School Building\, 120 W. Oltorf St\, Austin\, TX\, 78704\, United States
CATEGORIES:OCIA Adapted for Children (OCIA)
END:VEVENT
BEGIN:VEVENT
DTSTART;TZID=America/Chicago:20270307T094500
DTEND;TZID=America/Chicago:20270307T110000
DTSTAMP:20260424T050316
CREATED:20260418T191423Z
LAST-MODIFIED:20260418T191423Z
UID:159-1804412700-1804417200@sim-re.org
SUMMARY:OCIA class / Clase de OCIA
DESCRIPTION:
URL:https://sim-re.org/event/ocia-class-clase-de-ocia-18/
LOCATION:School Building\, 120 W. Oltorf St\, Austin\, TX\, 78704\, United States
CATEGORIES:OCIA Adapted for Children (OCIA)
END:VEVENT
BEGIN:VEVENT
DTSTART;TZID=America/Chicago:20270321T094500
DTEND;TZID=America/Chicago:20270321T110000
DTSTAMP:20260424T050316
CREATED:20260418T191423Z
LAST-MODIFIED:20260418T191423Z
UID:160-1805622300-1805626800@sim-re.org
SUMMARY:OCIA class + Robe Measuring (Palm Sunday) / Clase de OCIA + Medición de túnicas
DESCRIPTION:
URL:https://sim-re.org/event/ocia-class-robe-measuring-palm-sunday-clase-de-ocia-medicion-de-tunicas/
LOCATION:School Building\, 120 W. Oltorf St\, Austin\, TX\, 78704\, United States
CATEGORIES:OCIA Adapted for Children (OCIA)
END:VEVENT
END:VCALENDAR