BEGIN:VCALENDAR
VERSION:2.0
PRODID:-//St. Ignatius Martyr Children&#039;s Religious Education - ECPv6.15.20//NONSGML v1.0//EN
CALSCALE:GREGORIAN
METHOD:PUBLISH
X-WR-CALNAME:St. Ignatius Martyr Children&#039;s Religious Education
X-ORIGINAL-URL:https://sim-re.org
X-WR-CALDESC:Events for St. Ignatius Martyr Children&#039;s Religious Education
REFRESH-INTERVAL;VALUE=DURATION:PT1H
X-Robots-Tag:noindex
X-PUBLISHED-TTL:PT1H
BEGIN:VTIMEZONE
TZID:America/Chicago
BEGIN:DAYLIGHT
TZOFFSETFROM:-0600
TZOFFSETTO:-0500
TZNAME:CDT
DTSTART:20250309T080000
END:DAYLIGHT
BEGIN:STANDARD
TZOFFSETFROM:-0500
TZOFFSETTO:-0600
TZNAME:CST
DTSTART:20251102T070000
END:STANDARD
BEGIN:DAYLIGHT
TZOFFSETFROM:-0600
TZOFFSETTO:-0500
TZNAME:CDT
DTSTART:20260308T080000
END:DAYLIGHT
BEGIN:STANDARD
TZOFFSETFROM:-0500
TZOFFSETTO:-0600
TZNAME:CST
DTSTART:20261101T070000
END:STANDARD
BEGIN:DAYLIGHT
TZOFFSETFROM:-0600
TZOFFSETTO:-0500
TZNAME:CDT
DTSTART:20270314T080000
END:DAYLIGHT
BEGIN:STANDARD
TZOFFSETFROM:-0500
TZOFFSETTO:-0600
TZNAME:CST
DTSTART:20271107T070000
END:STANDARD
BEGIN:DAYLIGHT
TZOFFSETFROM:-0600
TZOFFSETTO:-0500
TZNAME:CDT
DTSTART:20280312T080000
END:DAYLIGHT
BEGIN:STANDARD
TZOFFSETFROM:-0500
TZOFFSETTO:-0600
TZNAME:CST
DTSTART:20281105T070000
END:STANDARD
END:VTIMEZONE
BEGIN:VEVENT
DTSTART;TZID=America/Chicago:20260908T181500
DTEND;TZID=America/Chicago:20260908T193000
DTSTAMP:20260420T225438
CREATED:20260418T191424Z
LAST-MODIFIED:20260418T191424Z
UID:165-1788891300-1788895800@sim-re.org
SUMMARY:FC2 — First Day + Spanish Parent Orientation / Primer día + Orientación para padres (español)
DESCRIPTION:
URL:https://sim-re.org/event/fc2-first-day-spanish-parent-orientation-primer-dia-orientacion-para-padres-espanol/
LOCATION:School Building\, 120 W. Oltorf St\, Austin\, TX\, 78704\, United States
CATEGORIES:First Communion — Year 2 (FC2),Parent Classes
END:VEVENT
BEGIN:VEVENT
DTSTART;TZID=America/Chicago:20260915T181500
DTEND;TZID=America/Chicago:20260915T193000
DTSTAMP:20260420T225438
CREATED:20260418T191424Z
LAST-MODIFIED:20260418T191424Z
UID:166-1789496100-1789500600@sim-re.org
SUMMARY:FC2 + English Parent Orientation / + Orientación para padres (inglés)
DESCRIPTION:
URL:https://sim-re.org/event/fc2-english-parent-orientation-orientacion-para-padres-ingles/
LOCATION:School Building\, 120 W. Oltorf St\, Austin\, TX\, 78704\, United States
CATEGORIES:First Communion — Year 2 (FC2),Parent Classes
END:VEVENT
BEGIN:VEVENT
DTSTART;TZID=America/Chicago:20260922T181500
DTEND;TZID=America/Chicago:20260922T193000
DTSTAMP:20260420T225438
CREATED:20260418T191424Z
LAST-MODIFIED:20260418T191424Z
UID:167-1790100900-1790105400@sim-re.org
SUMMARY:FC2 class / Clase de FC2
DESCRIPTION:
URL:https://sim-re.org/event/fc2-class-clase-de-fc2/
LOCATION:School Building\, 120 W. Oltorf St\, Austin\, TX\, 78704\, United States
CATEGORIES:First Communion — Year 2 (FC2)
END:VEVENT
BEGIN:VEVENT
DTSTART;TZID=America/Chicago:20260929T181500
DTEND;TZID=America/Chicago:20260929T193000
DTSTAMP:20260420T225438
CREATED:20260418T191425Z
LAST-MODIFIED:20260418T191425Z
UID:168-1790705700-1790710200@sim-re.org
SUMMARY:FC2 + First Spanish Parent Class / Primer día de clases para padres (español)
DESCRIPTION:
URL:https://sim-re.org/event/fc2-first-spanish-parent-class-primer-dia-de-clases-para-padres-espanol/
LOCATION:School Building\, 120 W. Oltorf St\, Austin\, TX\, 78704\, United States
CATEGORIES:First Communion — Year 2 (FC2),Parent Classes
END:VEVENT
BEGIN:VEVENT
DTSTART;TZID=America/Chicago:20261006T181500
DTEND;TZID=America/Chicago:20261006T193000
DTSTAMP:20260420T225438
CREATED:20260418T191425Z
LAST-MODIFIED:20260418T191425Z
UID:169-1791310500-1791315000@sim-re.org
SUMMARY:FC2 class / Clase de FC2
DESCRIPTION:
URL:https://sim-re.org/event/fc2-class-clase-de-fc2-2/
LOCATION:School Building\, 120 W. Oltorf St\, Austin\, TX\, 78704\, United States
CATEGORIES:First Communion — Year 2 (FC2)
END:VEVENT
BEGIN:VEVENT
DTSTART;TZID=America/Chicago:20261013T181500
DTEND;TZID=America/Chicago:20261013T193000
DTSTAMP:20260420T225438
CREATED:20260418T191425Z
LAST-MODIFIED:20260418T191425Z
UID:170-1791915300-1791919800@sim-re.org
SUMMARY:FC2 class / Clase de FC2
DESCRIPTION:
URL:https://sim-re.org/event/fc2-class-clase-de-fc2-3/
LOCATION:School Building\, 120 W. Oltorf St\, Austin\, TX\, 78704\, United States
CATEGORIES:First Communion — Year 2 (FC2)
END:VEVENT
BEGIN:VEVENT
DTSTART;TZID=America/Chicago:20261020T180000
DTEND;TZID=America/Chicago:20261020T193000
DTSTAMP:20260420T225438
CREATED:20260418T191416Z
LAST-MODIFIED:20260418T191416Z
UID:122-1792519200-1792524600@sim-re.org
SUMMARY:Teaching Mass (English) / Misa de enseñanza (inglés)
DESCRIPTION:Required for FC2 + OCIA parents. Parents may attend in either language.
URL:https://sim-re.org/event/teaching-mass-english-misa-de-ensenanza-ingles/
LOCATION:Church\, 126 W. Oltorf Street\, Austin\, TX\, 78704\, United States
CATEGORIES:First Communion — Year 2 (FC2),OCIA Adapted for Children (OCIA)
END:VEVENT
BEGIN:VEVENT
DTSTART;TZID=America/Chicago:20261027T181500
DTEND;TZID=America/Chicago:20261027T193000
DTSTAMP:20260420T225438
CREATED:20260418T191425Z
LAST-MODIFIED:20260418T191425Z
UID:171-1793124900-1793129400@sim-re.org
SUMMARY:FC2 class / Clase de FC2
DESCRIPTION:
URL:https://sim-re.org/event/fc2-class-clase-de-fc2-4/
LOCATION:School Building\, 120 W. Oltorf St\, Austin\, TX\, 78704\, United States
CATEGORIES:First Communion — Year 2 (FC2)
END:VEVENT
BEGIN:VEVENT
DTSTART;TZID=America/Chicago:20261103T181500
DTEND;TZID=America/Chicago:20261103T193000
DTSTAMP:20260420T225438
CREATED:20260418T191425Z
LAST-MODIFIED:20260418T191425Z
UID:172-1793729700-1793734200@sim-re.org
SUMMARY:FC2 class / Clase de FC2
DESCRIPTION:
URL:https://sim-re.org/event/fc2-class-clase-de-fc2-5/
LOCATION:School Building\, 120 W. Oltorf St\, Austin\, TX\, 78704\, United States
CATEGORIES:First Communion — Year 2 (FC2)
END:VEVENT
BEGIN:VEVENT
DTSTART;TZID=America/Chicago:20261110T180000
DTEND;TZID=America/Chicago:20261110T200000
DTSTAMP:20260420T225438
CREATED:20260418T191418Z
LAST-MODIFIED:20260418T191418Z
UID:135-1794333600-1794340800@sim-re.org
SUMMARY:FC2 Reconciliation Practice / Práctica de la Reconciliación
DESCRIPTION:English class 6–7 PM\, Spanish class 7–8 PM. Main Church.
URL:https://sim-re.org/event/fc2-reconciliation-practice-practica-de-la-reconciliacion/
LOCATION:Church\, 126 W. Oltorf Street\, Austin\, TX\, 78704\, United States
CATEGORIES:First Communion — Year 2 (FC2)
END:VEVENT
BEGIN:VEVENT
DTSTART;TZID=America/Chicago:20261114T080000
DTEND;TZID=America/Chicago:20261114T120000
DTSTAMP:20260420T225438
CREATED:20260418T191416Z
LAST-MODIFIED:20260418T191416Z
UID:124-1794643200-1794657600@sim-re.org
SUMMARY:FC2 Reconciliation Mini-Retreat + First Reconciliation / Mini retiro + Primera Reconciliación (FC2)
DESCRIPTION:Parents and FC2 students required. Students make their First Confession after the mini-retreat.
URL:https://sim-re.org/event/fc2-reconciliation-mini-retreat-first-reconciliation-mini-retiro-primera-reconciliacion-fc2/
LOCATION:Doré Athletic Center\, 120 W. Oltorf Street\, Austin\, TX\, 78704\, United States
CATEGORIES:First Communion — Year 2 (FC2)
END:VEVENT
BEGIN:VEVENT
DTSTART;TZID=America/Chicago:20261117T181500
DTEND;TZID=America/Chicago:20261117T193000
DTSTAMP:20260420T225438
CREATED:20260418T191425Z
LAST-MODIFIED:20260418T191425Z
UID:173-1794939300-1794943800@sim-re.org
SUMMARY:FC2 class / Clase de FC2
DESCRIPTION:
URL:https://sim-re.org/event/fc2-class-clase-de-fc2-6/
LOCATION:School Building\, 120 W. Oltorf St\, Austin\, TX\, 78704\, United States
CATEGORIES:First Communion — Year 2 (FC2)
END:VEVENT
BEGIN:VEVENT
DTSTART;TZID=America/Chicago:20261201T181500
DTEND;TZID=America/Chicago:20261201T193000
DTSTAMP:20260420T225438
CREATED:20260418T191426Z
LAST-MODIFIED:20260418T191426Z
UID:174-1796148900-1796153400@sim-re.org
SUMMARY:FC2 class / Clase de FC2
DESCRIPTION:
URL:https://sim-re.org/event/fc2-class-clase-de-fc2-7/
LOCATION:School Building\, 120 W. Oltorf St\, Austin\, TX\, 78704\, United States
CATEGORIES:First Communion — Year 2 (FC2)
END:VEVENT
BEGIN:VEVENT
DTSTART;TZID=America/Chicago:20261215T181500
DTEND;TZID=America/Chicago:20261215T193000
DTSTAMP:20260420T225438
CREATED:20260418T191426Z
LAST-MODIFIED:20260418T191426Z
UID:175-1797358500-1797363000@sim-re.org
SUMMARY:FC2 — Last Class of Fall Semester / Última clase del semestre de otoño
DESCRIPTION:
URL:https://sim-re.org/event/fc2-last-class-of-fall-semester-ultima-clase-del-semestre-de-otono/
LOCATION:School Building\, 120 W. Oltorf St\, Austin\, TX\, 78704\, United States
CATEGORIES:First Communion — Year 2 (FC2)
END:VEVENT
BEGIN:VEVENT
DTSTART;TZID=America/Chicago:20270112T181500
DTEND;TZID=America/Chicago:20270112T193000
DTSTAMP:20260420T225438
CREATED:20260418T191426Z
LAST-MODIFIED:20260418T191426Z
UID:176-1799777700-1799782200@sim-re.org
SUMMARY:FC2 — First Class of Spring Semester / Primera clase del semestre de primavera
DESCRIPTION:
URL:https://sim-re.org/event/fc2-first-class-of-spring-semester-primera-clase-del-semestre-de-primavera/
LOCATION:School Building\, 120 W. Oltorf St\, Austin\, TX\, 78704\, United States
CATEGORIES:First Communion — Year 2 (FC2)
END:VEVENT
BEGIN:VEVENT
DTSTART;TZID=America/Chicago:20270119T181500
DTEND;TZID=America/Chicago:20270119T193000
DTSTAMP:20260420T225438
CREATED:20260418T191426Z
LAST-MODIFIED:20260418T191426Z
UID:177-1800382500-1800387000@sim-re.org
SUMMARY:FC2 class / Clase de FC2
DESCRIPTION:
URL:https://sim-re.org/event/fc2-class-clase-de-fc2-8/
LOCATION:School Building\, 120 W. Oltorf St\, Austin\, TX\, 78704\, United States
CATEGORIES:First Communion — Year 2 (FC2)
END:VEVENT
BEGIN:VEVENT
DTSTART;TZID=America/Chicago:20270126T181500
DTEND;TZID=America/Chicago:20270126T193000
DTSTAMP:20260420T225438
CREATED:20260418T191426Z
LAST-MODIFIED:20260418T191426Z
UID:178-1800987300-1800991800@sim-re.org
SUMMARY:FC2 class / Clase de FC2
DESCRIPTION:
URL:https://sim-re.org/event/fc2-class-clase-de-fc2-9/
LOCATION:School Building\, 120 W. Oltorf St\, Austin\, TX\, 78704\, United States
CATEGORIES:First Communion — Year 2 (FC2)
END:VEVENT
BEGIN:VEVENT
DTSTART;TZID=America/Chicago:20270130T080000
DTEND;TZID=America/Chicago:20270130T120000
DTSTAMP:20260420T225438
CREATED:20260418T191417Z
LAST-MODIFIED:20260418T191417Z
UID:125-1801296000-1801310400@sim-re.org
SUMMARY:Parish Service Day / Día de servicio parroquial
DESCRIPTION:
URL:https://sim-re.org/event/parish-service-day-dia-de-servicio-parroquial/
LOCATION:Doré Athletic Center\, 120 W. Oltorf Street\, Austin\, TX\, 78704\, United States
CATEGORIES:First Communion — Year 2 (FC2),OCIA Adapted for Children (OCIA)
END:VEVENT
BEGIN:VEVENT
DTSTART;TZID=America/Chicago:20270202T181500
DTEND;TZID=America/Chicago:20270202T193000
DTSTAMP:20260420T225438
CREATED:20260418T191426Z
LAST-MODIFIED:20260418T191426Z
UID:179-1801592100-1801596600@sim-re.org
SUMMARY:FC2 class / Clase de FC2
DESCRIPTION:
URL:https://sim-re.org/event/fc2-class-clase-de-fc2-10/
LOCATION:School Building\, 120 W. Oltorf St\, Austin\, TX\, 78704\, United States
CATEGORIES:First Communion — Year 2 (FC2)
END:VEVENT
BEGIN:VEVENT
DTSTART;TZID=America/Chicago:20270209T181500
DTEND;TZID=America/Chicago:20270209T193000
DTSTAMP:20260420T225438
CREATED:20260418T191427Z
LAST-MODIFIED:20260418T191427Z
UID:180-1802196900-1802201400@sim-re.org
SUMMARY:FC2 class / Clase de FC2
DESCRIPTION:
URL:https://sim-re.org/event/fc2-class-clase-de-fc2-11/
LOCATION:School Building\, 120 W. Oltorf St\, Austin\, TX\, 78704\, United States
CATEGORIES:First Communion — Year 2 (FC2)
END:VEVENT
BEGIN:VEVENT
DTSTART;TZID=America/Chicago:20270216T181500
DTEND;TZID=America/Chicago:20270216T193000
DTSTAMP:20260420T225438
CREATED:20260418T191427Z
LAST-MODIFIED:20260418T191427Z
UID:181-1802801700-1802806200@sim-re.org
SUMMARY:FC2 class / Clase de FC2
DESCRIPTION:
URL:https://sim-re.org/event/fc2-class-clase-de-fc2-12/
LOCATION:School Building\, 120 W. Oltorf St\, Austin\, TX\, 78704\, United States
CATEGORIES:First Communion — Year 2 (FC2)
END:VEVENT
BEGIN:VEVENT
DTSTART;TZID=America/Chicago:20270223T180000
DTEND;TZID=America/Chicago:20270223T193000
DTSTAMP:20260420T225438
CREATED:20260418T191417Z
LAST-MODIFIED:20260418T191417Z
UID:126-1803405600-1803411000@sim-re.org
SUMMARY:Teaching Mass (Spanish) / Misa de enseñanza (español)
DESCRIPTION:Required for FC2 + OCIA parents. Parents may attend in either language.
URL:https://sim-re.org/event/teaching-mass-spanish-misa-de-ensenanza-espanol/
LOCATION:Church\, 126 W. Oltorf Street\, Austin\, TX\, 78704\, United States
CATEGORIES:First Communion — Year 2 (FC2),OCIA Adapted for Children (OCIA)
END:VEVENT
BEGIN:VEVENT
DTSTART;TZID=America/Chicago:20270227T080000
DTEND;TZID=America/Chicago:20270227T120000
DTSTAMP:20260420T225438
CREATED:20260418T191417Z
LAST-MODIFIED:20260418T191417Z
UID:127-1803715200-1803729600@sim-re.org
SUMMARY:Lenten Retreat / Retiro de Cuaresma
DESCRIPTION:
URL:https://sim-re.org/event/lenten-retreat-retiro-de-cuaresma/
LOCATION:Doré Athletic Center\, 120 W. Oltorf Street\, Austin\, TX\, 78704\, United States
CATEGORIES:First Communion — Year 2 (FC2),OCIA Adapted for Children (OCIA)
END:VEVENT
BEGIN:VEVENT
DTSTART;TZID=America/Chicago:20270302T181500
DTEND;TZID=America/Chicago:20270302T193000
DTSTAMP:20260420T225438
CREATED:20260418T191427Z
LAST-MODIFIED:20260418T191427Z
UID:182-1804011300-1804015800@sim-re.org
SUMMARY:FC2 class / Clase de FC2
DESCRIPTION:
URL:https://sim-re.org/event/fc2-class-clase-de-fc2-13/
LOCATION:School Building\, 120 W. Oltorf St\, Austin\, TX\, 78704\, United States
CATEGORIES:First Communion — Year 2 (FC2)
END:VEVENT
BEGIN:VEVENT
DTSTART;TZID=America/Chicago:20270309T181500
DTEND;TZID=America/Chicago:20270309T193000
DTSTAMP:20260420T225438
CREATED:20260418T191427Z
LAST-MODIFIED:20260418T191427Z
UID:183-1804616100-1804620600@sim-re.org
SUMMARY:FC2 class / Clase de FC2
DESCRIPTION:
URL:https://sim-re.org/event/fc2-class-clase-de-fc2-14/
LOCATION:School Building\, 120 W. Oltorf St\, Austin\, TX\, 78704\, United States
CATEGORIES:First Communion — Year 2 (FC2)
END:VEVENT
BEGIN:VEVENT
DTSTART;TZID=America/Chicago:20270330T181500
DTEND;TZID=America/Chicago:20270330T193000
DTSTAMP:20260420T225438
CREATED:20260418T191427Z
LAST-MODIFIED:20260418T191427Z
UID:184-1806430500-1806435000@sim-re.org
SUMMARY:FC2 class / Clase de FC2
DESCRIPTION:
URL:https://sim-re.org/event/fc2-class-clase-de-fc2-15/
LOCATION:School Building\, 120 W. Oltorf St\, Austin\, TX\, 78704\, United States
CATEGORIES:First Communion — Year 2 (FC2)
END:VEVENT
BEGIN:VEVENT
DTSTART;TZID=America/Chicago:20270406T181500
DTEND;TZID=America/Chicago:20270406T193000
DTSTAMP:20260420T225438
CREATED:20260418T191428Z
LAST-MODIFIED:20260418T191428Z
UID:185-1807035300-1807039800@sim-re.org
SUMMARY:FC2 class / Clase de FC2
DESCRIPTION:
URL:https://sim-re.org/event/fc2-class-clase-de-fc2-16/
LOCATION:School Building\, 120 W. Oltorf St\, Austin\, TX\, 78704\, United States
CATEGORIES:First Communion — Year 2 (FC2)
END:VEVENT
BEGIN:VEVENT
DTSTART;TZID=America/Chicago:20270413T181500
DTEND;TZID=America/Chicago:20270413T193000
DTSTAMP:20260420T225438
CREATED:20260418T191428Z
LAST-MODIFIED:20260418T191428Z
UID:186-1807640100-1807644600@sim-re.org
SUMMARY:FC2 class / Clase de FC2
DESCRIPTION:
URL:https://sim-re.org/event/fc2-class-clase-de-fc2-17/
LOCATION:School Building\, 120 W. Oltorf St\, Austin\, TX\, 78704\, United States
CATEGORIES:First Communion — Year 2 (FC2)
END:VEVENT
BEGIN:VEVENT
DTSTART;TZID=America/Chicago:20270417T080000
DTEND;TZID=America/Chicago:20270417T120000
DTSTAMP:20260420T225438
CREATED:20260418T191417Z
LAST-MODIFIED:20260418T191417Z
UID:128-1807948800-1807963200@sim-re.org
SUMMARY:Eucharist Retreat / Retiro de la Eucaristía
DESCRIPTION:
URL:https://sim-re.org/event/eucharist-retreat-retiro-de-la-eucaristia/
LOCATION:Doré Athletic Center\, 120 W. Oltorf Street\, Austin\, TX\, 78704\, United States
CATEGORIES:First Communion — Year 2 (FC2),OCIA Adapted for Children (OCIA)
END:VEVENT
BEGIN:VEVENT
DTSTART;TZID=America/Chicago:20270420T181500
DTEND;TZID=America/Chicago:20270420T193000
DTSTAMP:20260420T225438
CREATED:20260418T191428Z
LAST-MODIFIED:20260418T191428Z
UID:187-1808244900-1808249400@sim-re.org
SUMMARY:FC2 class / Clase de FC2
DESCRIPTION:
URL:https://sim-re.org/event/fc2-class-clase-de-fc2-18/
LOCATION:School Building\, 120 W. Oltorf St\, Austin\, TX\, 78704\, United States
CATEGORIES:First Communion — Year 2 (FC2)
END:VEVENT
END:VCALENDAR